BEGIN:VCALENDAR
VERSION:2.0
PRODID:-//wp-events-plugin.com//7.2.3.1//EN
TZID:Europe/Rome
X-WR-TIMEZONE:Europe/Rome
BEGIN:VEVENT
UID:1473@cpafisud.org
DTSTART;TZID=Europe/Rome:20260315T130000
DTEND;TZID=Europe/Rome:20260315T130000
DTSTAMP:20260315T172033Z
URL:https://www.cpafisud.org/agenda/pranzo-per-cuba/
SUMMARY:Pranzo per Cuba!
DESCRIPTION:Siamo ormai alla conclusione della raccolta di farmaci per Cuba
  che lanciammo il 27 Febbraio scorso.
ATTACH;FMTTYPE=image/jpeg:https://www.cpafisud.org/wp-content/uploads/2026
 /03/iniziativa_2026-03-15.jpeg
CATEGORIES:Iniziative
LOCATION:Cucina\, CPA FI SUD | Via Villamagna 27/A\, Firenze\, Italia
X-APPLE-STRUCTURED-LOCATION;VALUE=URI;X-ADDRESS=CPA FI SUD | Via Villamagna
  27/A\, Firenze\, Italia;X-APPLE-RADIUS=100;X-TITLE=Cucina:geo:0,0
END:VEVENT
BEGIN:VTIMEZONE
TZID:Europe/Rome
X-LIC-LOCATION:Europe/Rome
BEGIN:STANDARD
DTSTART:20251026T020000
TZOFFSETFROM:+0200
TZOFFSETTO:+0100
TZNAME:CET
END:STANDARD
END:VTIMEZONE
END:VCALENDAR