BEGIN:VCALENDAR
VERSION:2.0
PRODID:-//wp-events-plugin.com//7.2.3.1//EN
TZID:Europe/Rome
X-WR-TIMEZONE:Europe/Rome
BEGIN:VEVENT
UID:754@cpafisud.org
DTSTART;TZID=Europe/Rome:20251010T183000
DTEND;TZID=Europe/Rome:20251010T183000
DTSTAMP:20251011T172523Z
URL:https://www.cpafisud.org/agenda/meloni-salvini-tajani-firenze-un-vi-vo
 le/
SUMMARY:Meloni\, Salvini\, Tajani\, Firenze un vi vole!
DESCRIPTION:La Firenze che "sa da quale parte stare"\, la Firenze partigian
 a\, venerdì scenderà ancora in piazza per contestare la presenza di Melo
 ni\, Tajani e Salvini in San Lorenzo.
ATTACH;FMTTYPE=image/jpeg:https://www.cpafisud.org/wp-content/uploads/2025
 /10/corteo_2025-10-10.jpeg
CATEGORIES:Manifestazioni
END:VEVENT
BEGIN:VTIMEZONE
TZID:Europe/Rome
X-LIC-LOCATION:Europe/Rome
BEGIN:DAYLIGHT
DTSTART:20250330T030000
TZOFFSETFROM:+0100
TZOFFSETTO:+0200
TZNAME:CEST
END:DAYLIGHT
END:VTIMEZONE
END:VCALENDAR