BEGIN:VCALENDAR
VERSION:2.0
PRODID:-//wp-events-plugin.com//7.2.3.1//EN
TZID:Europe/Rome
X-WR-TIMEZONE:Europe/Rome
BEGIN:VEVENT
UID:1471@cpafisud.org
DTSTART;TZID=Europe/Rome:20260307T153000
DTEND;TZID=Europe/Rome:20260307T153000
DTSTAMP:20260307T203136Z
URL:https://www.cpafisud.org/agenda/manifestazione-contro-la-deportazione/
SUMMARY:Manifestazione contro la deportazione
DESCRIPTION:Il comitato remigrazione e riconquista chiama un corteo naziona
 le a Prato il 7 Marzo.\nLo fanno nel più becero dei modi: provano a sfrut
 tare le lotte degli operai immigrati del distretto tessile spostando il fo
 cus da uno scontro di classe a uno scontro etnico in cui i cinesi sono gli
  sfruttatori. Come se lo schema non facesse già abbastanza schifo\, la lo
 ro proposta è un’alleanza tra lavoratori e imprenditori italiani\, i pr
 imi schiacciati dallo sfruttamento\, i secondi dalla concorrenza sleale\, 
 contro tutti gli immigrati.\n
ATTACH;FMTTYPE=image/jpeg:https://www.cpafisud.org/wp-content/uploads/2026
 /03/manifestazione_2026-02-07.jpg
CATEGORIES:Manifestazioni
END:VEVENT
BEGIN:VTIMEZONE
TZID:Europe/Rome
X-LIC-LOCATION:Europe/Rome
BEGIN:STANDARD
DTSTART:20251026T020000
TZOFFSETFROM:+0200
TZOFFSETTO:+0100
TZNAME:CET
END:STANDARD
END:VTIMEZONE
END:VCALENDAR