BEGIN:VCALENDAR
VERSION:2.0
PRODID:-//wp-events-plugin.com//7.2.3.1//EN
TZID:Europe/Rome
X-WR-TIMEZONE:Europe/Rome
BEGIN:VEVENT
UID:1470@cpafisud.org
DTSTART;TZID=Europe/Rome:20260314T220000
DTEND;TZID=Europe/Rome:20260314T220000
DTSTAMP:20260315T095904Z
URL:https://www.cpafisud.org/agenda/lion-d-live-showcase/
SUMMARY:LION D Live Showcase
DESCRIPTION:Firenze\, preparati per una notte di pura energia Reggae & Danc
 ehall!\n\nSiamo orgogliosi di annunciare il ritorno sul palco di LION D pe
 r un live showcase imperdibile. Ad accompagnare le vibes per tutta la nott
 e\, ai controlli della dancehall ci sarà la BANPAY CREW.
ATTACH;FMTTYPE=image/jpeg:https://www.cpafisud.org/wp-content/uploads/2026
 /03/concerto_2026-03-14.jpeg
CATEGORIES:Concerti
END:VEVENT
BEGIN:VTIMEZONE
TZID:Europe/Rome
X-LIC-LOCATION:Europe/Rome
BEGIN:STANDARD
DTSTART:20251026T020000
TZOFFSETFROM:+0200
TZOFFSETTO:+0100
TZNAME:CET
END:STANDARD
END:VTIMEZONE
END:VCALENDAR