BEGIN:VCALENDAR
VERSION:2.0
PRODID:-//wp-events-plugin.com//7.2.3.1//EN
TZID:Europe/Rome
X-WR-TIMEZONE:Europe/Rome
BEGIN:VEVENT
UID:1469@cpafisud.org
DTSTART;TZID=Europe/Rome:20260306T180000
DTEND;TZID=Europe/Rome:20260306T180000
DTSTAMP:20260308T130106Z
URL:https://www.cpafisud.org/agenda/liber3-tutt3/
SUMMARY:LIBER3 TUTT3 - الحريّة للجميع
DESCRIPTION:Tutto il ricavato andrà nel fondo cassa emergenziale che la no
 stra assemblea GAT ha istituito a sostegno dellx compagnx in difficoltà e
 conomica legata al genere e alla razzializzazione.
ATTACH;FMTTYPE=image/jpeg:https://www.cpafisud.org/wp-content/uploads/2026
 /03/iniziativa_2026-03-06.jpeg
CATEGORIES:Concerti,Iniziative
LOCATION:Sala Concerti\, CPA FI SUD | Via Villamagna 27/A\, Firenze\, Itali
 a
X-APPLE-STRUCTURED-LOCATION;VALUE=URI;X-ADDRESS=CPA FI SUD | Via Villamagna
  27/A\, Firenze\, Italia;X-APPLE-RADIUS=100;X-TITLE=Sala Concerti:geo:0,0
END:VEVENT
BEGIN:VTIMEZONE
TZID:Europe/Rome
X-LIC-LOCATION:Europe/Rome
BEGIN:STANDARD
DTSTART:20251026T020000
TZOFFSETFROM:+0200
TZOFFSETTO:+0100
TZNAME:CET
END:STANDARD
END:VTIMEZONE
END:VCALENDAR