BEGIN:VCALENDAR
VERSION:2.0
PRODID:-//wp-events-plugin.com//7.2.3.1//EN
TZID:Europe/Rome
X-WR-TIMEZONE:Europe/Rome
BEGIN:VEVENT
UID:574@cpafisud.org
DTSTART;TZID=Europe/Rome:20250906T160000
DTEND;TZID=Europe/Rome:20250907T160000
DTSTAMP:20250908T173707Z
URL:https://www.cpafisud.org/agenda/fontesanta-2025/
SUMMARY:Fontesanta 2025
DESCRIPTION:Tutte le iniziative si svolgeranno presso la Casina di Fontesan
 ta e nel bosco antistante ad essa\, ultimo punto d'appoggio della Brigata 
 Sinigaglia in spostamento dal San Michele fino all'entrata in Firenze per 
 la sua liberazione nell'Agosto del 1944.\nNella notte tra Sabato e Domenic
 a sarà possibile campeggiare.
ATTACH;FMTTYPE=image/jpeg:https://www.cpafisud.org/wp-content/uploads/2025
 /08/fontesanta_2025.jpeg
CATEGORIES:Iniziative
END:VEVENT
BEGIN:VTIMEZONE
TZID:Europe/Rome
X-LIC-LOCATION:Europe/Rome
BEGIN:DAYLIGHT
DTSTART:20250330T030000
TZOFFSETFROM:+0100
TZOFFSETTO:+0200
TZNAME:CEST
END:DAYLIGHT
END:VTIMEZONE
END:VCALENDAR