BEGIN:VCALENDAR
VERSION:2.0
PRODID:-//wp-events-plugin.com//7.2.3.1//EN
TZID:Europe/Rome
X-WR-TIMEZONE:Europe/Rome
BEGIN:VEVENT
UID:557@cpafisud.org
DTSTART;TZID=Europe/Rome:20251011T150000
DTEND;TZID=Europe/Rome:20251011T150000
DTSTAMP:20251011T172541Z
URL:https://www.cpafisud.org/agenda/firenze-contro-la-guerra-fuori-la-nato
 -dalla-nostra-terra/
SUMMARY:Firenze contro la guerra\, fuori la NATO dalla nostra terra!
DESCRIPTION:Largo de Gasperi 1\nDavanti alla sede RAI di Firenze
ATTACH;FMTTYPE=image/jpeg:https://www.cpafisud.org/wp-content/uploads/2025
 /07/manifestazione_2025-10-11.jpg
CATEGORIES:Manifestazioni
END:VEVENT
BEGIN:VTIMEZONE
TZID:Europe/Rome
X-LIC-LOCATION:Europe/Rome
BEGIN:DAYLIGHT
DTSTART:20250330T030000
TZOFFSETFROM:+0100
TZOFFSETTO:+0200
TZNAME:CEST
END:DAYLIGHT
END:VTIMEZONE
END:VCALENDAR