BEGIN:VCALENDAR
VERSION:2.0
PRODID:-//wp-events-plugin.com//7.2.3.1//EN
TZID:Europe/Rome
X-WR-TIMEZONE:Europe/Rome
BEGIN:VEVENT
UID:1457@cpafisud.org
DTSTART;TZID=Europe/Rome:20260314T163000
DTEND;TZID=Europe/Rome:20260314T163000
DTSTAMP:20260314T213748Z
URL:https://www.cpafisud.org/agenda/democrazia-in-tempo-di-guerra/
SUMMARY:Democrazia in tempo di guerra
DESCRIPTION:Tra riforma costituzionale\, censura\, repressione e riarmo.\n\
 nSabato 14 Marzo alle ore 16.30 al CPA Firenze Sud
ATTACH;FMTTYPE=image/jpeg:https://www.cpafisud.org/wp-content/uploads/2026
 /02/iniziativa_2026-03-14.jpg
CATEGORIES:Iniziative
LOCATION:Sala Concerti\, CPA FI SUD | Via Villamagna 27/A\, Firenze\, Itali
 a
X-APPLE-STRUCTURED-LOCATION;VALUE=URI;X-ADDRESS=CPA FI SUD | Via Villamagna
  27/A\, Firenze\, Italia;X-APPLE-RADIUS=100;X-TITLE=Sala Concerti:geo:0,0
END:VEVENT
BEGIN:VTIMEZONE
TZID:Europe/Rome
X-LIC-LOCATION:Europe/Rome
BEGIN:STANDARD
DTSTART:20251026T020000
TZOFFSETFROM:+0200
TZOFFSETTO:+0100
TZNAME:CET
END:STANDARD
END:VTIMEZONE
END:VCALENDAR