BEGIN:VCALENDAR
VERSION:2.0
PRODID:-//wp-events-plugin.com//7.2.3.1//EN
TZID:Europe/Rome
X-WR-TIMEZONE:Europe/Rome
BEGIN:VEVENT
UID:1463@cpafisud.org
DTSTART;TZID=Europe/Rome;VALUE=DATE:20260303
DTEND;TZID=Europe/Rome;VALUE=DATE:20260311
DTSTAMP:20260324T191844Z
URL:https://www.cpafisud.org/agenda/cuba-chiama/
SUMMARY:Cuba chiama!
DESCRIPTION:Arrivano da Cuba notizie che ci fanno capire la gravità della 
 situazione\, il blocco navale ed economico imposto dagli stati uniti non p
 ermette l' arrivo nell' isola di beni\, neanche quelli di prima necessità
 .
ATTACH;FMTTYPE=image/jpeg:https://www.cpafisud.org/wp-content/uploads/2026
 /03/cuba_raccolta_medicinali.png
CATEGORIES:Attività
LOCATION:Covo\, CPA FI SUD | Via Villamagna 27/A\, Firenze\, Italia
X-APPLE-STRUCTURED-LOCATION;VALUE=URI;X-ADDRESS=CPA FI SUD | Via Villamagna
  27/A\, Firenze\, Italia;X-APPLE-RADIUS=100;X-TITLE=Covo:geo:0,0
END:VEVENT
BEGIN:VTIMEZONE
TZID:Europe/Rome
X-LIC-LOCATION:Europe/Rome
BEGIN:STANDARD
DTSTART:20251026T020000
TZOFFSETFROM:+0200
TZOFFSETTO:+0100
TZNAME:CET
END:STANDARD
END:VTIMEZONE
END:VCALENDAR