BEGIN:VCALENDAR
VERSION:2.0
PRODID:-//wp-events-plugin.com//7.2.3.1//EN
TZID:Europe/Rome
X-WR-TIMEZONE:Europe/Rome
BEGIN:VEVENT
UID:745@cpafisud.org
DTSTART;TZID=Europe/Rome:20251004T083000
DTEND;TZID=Europe/Rome:20251004T083000
DTSTAMP:20251005T133724Z
URL:https://www.cpafisud.org/agenda/corteo-del-4-ottobre-a-roma/
SUMMARY:Corteo del 4 Ottobre a Roma
DESCRIPTION:BUS PER IL CORTEO DEL 4/10 A ROMA
ATTACH;FMTTYPE=image/jpeg:https://www.cpafisud.org/wp-content/uploads/2025
 /09/manifestazione_2025-10-04.jpeg
CATEGORIES:Manifestazioni
END:VEVENT
BEGIN:VTIMEZONE
TZID:Europe/Rome
X-LIC-LOCATION:Europe/Rome
BEGIN:DAYLIGHT
DTSTART:20250330T030000
TZOFFSETFROM:+0100
TZOFFSETTO:+0200
TZNAME:CEST
END:DAYLIGHT
END:VTIMEZONE
END:VCALENDAR