BEGIN:VCALENDAR
VERSION:2.0
PRODID:-//wp-events-plugin.com//7.2.3.1//EN
TZID:Europe/Rome
X-WR-TIMEZONE:Europe/Rome
BEGIN:VEVENT
UID:1504@cpafisud.org
DTSTART;TZID=Europe/Rome:20260425T150000
DTEND;TZID=Europe/Rome:20260425T150000
DTSTAMP:20260421T143648Z
URL:https://www.cpafisud.org/agenda/25-aprile-2026-in-piazza-santo-spirito
 /
SUMMARY:25 Aprile 2026 in Piazza Santo Spirito
DESCRIPTION:Come ogni anno ormai da molti anni\, non per ricorrenza ma per 
 rinnovare l'impegno nella lotta contro un presente di guerra e diseguaglia
 nze\, la Firenze Antifascista lancia l'appuntamento per il 25 Aprile in pi
 azza Santo Spirito.
ATTACH;FMTTYPE=image/jpeg:https://www.cpafisud.org/wp-content/uploads/2026
 /04/25_aprile_2026.jpg
CATEGORIES:Attività,Concerti,Manifestazioni
END:VEVENT
BEGIN:VTIMEZONE
TZID:Europe/Rome
X-LIC-LOCATION:Europe/Rome
BEGIN:DAYLIGHT
DTSTART:20260329T030000
TZOFFSETFROM:+0100
TZOFFSETTO:+0200
TZNAME:CEST
END:DAYLIGHT
END:VTIMEZONE
END:VCALENDAR